BEGIN:VCALENDAR
VERSION:2.0
PRODID:-//Plone.org//NONSGML plone.app.event//EN
X-WR-TIMEZONE:US/Central
BEGIN:VEVENT
SUMMARY:Teacher's Appreciation Day
DTSTART;VALUE=DATE:20160503
DTEND;VALUE=DATE:20160504
DTSTAMP:20260422T101909Z
UID:c133b3d6560646f6bb4353ee799e8fd1@saas_stack_varnish:6080
CONTACT:940-569-2991
CREATED:20160420T212224Z
DESCRIPTION:Teachers come by the library and sign up for a teacher goodie 
 bag to be given away. You do not have to be present to win. We will draw a
 t the end of the day and we will contact the winner
LAST-MODIFIED:20250205T213533Z
LOCATION:Burkburnett Library
URL:https://burk.ploud.net/What%20is%20Happening/lib-calendar/teachers-app
 reciation-day
END:VEVENT
END:VCALENDAR
