BEGIN:VCALENDAR
VERSION:2.0
PRODID:-//Plone.org//NONSGML plone.app.event//EN
X-WR-TIMEZONE:US/Central
BEGIN:VEVENT
SUMMARY:Ladies Craft Night
DTSTART;TZID=US/Central:20160519T180000
DTEND;TZID=US/Central:20160519T190000
DTSTAMP:20260422T101829Z
UID:2d2b7309f50d402b9160b9d7e8579bb9@saas_stack_varnish:6080
CONTACT:Ashlee\, 940-569-2991
CREATED:20160420T213250Z
DESCRIPTION:"String Art": The Library will supply the nails and the string
 \, ladies will supply their wood that they will be making their design on
LAST-MODIFIED:20250205T213731Z
LOCATION:Burkburnett Library
URL:https://burk.ploud.net/What%20is%20Happening/lib-calendar/ladies-craft
 -night
END:VEVENT
BEGIN:VTIMEZONE
TZID:US/Central
X-LIC-LOCATION:US/Central
BEGIN:DAYLIGHT
DTSTART:20160313T030000
TZNAME:CDT
TZOFFSETFROM:-0600
TZOFFSETTO:-0500
END:DAYLIGHT
END:VTIMEZONE
END:VCALENDAR
