BEGIN:VCALENDAR
VERSION:2.0
PRODID:-//Plone.org//NONSGML plone.app.event//EN
X-WR-TIMEZONE:US/Central
BEGIN:VEVENT
SUMMARY:Health and Wellness Fair
DTSTART;TZID=US/Central:20160402T100000
DTEND;TZID=US/Central:20160402T140000
DTSTAMP:20260422T085624Z
UID:371f74c04f854a4b9a0990036c94eca0@saas_stack_varnish:6080
CONTACT:Pam Miller or Ashlee O'Rourke\, (940)569-2991
CREATED:20160325T173005Z
DESCRIPTION:Burkburnett Library is hosting the 2nd Annual "Boomtown Health
  & Wellness Fair" at the Community Center! This event is sponsored by Burk
 burnett Library and City of Burkburnett\; featuring such vendors as United
  Regional Health Care\, TOPS\, BISD Nursing\, Beach Body\, United Market S
 treet\, and many more! Come join us for free Wellness checks\, Blood sugar
  checks\, and Blood pressure checks! Door prizes will be available to regi
 ster for and you will not have to be present to win!
LAST-MODIFIED:20250205T212749Z
LOCATION:Burkburnett Community Center at 735 Davy Drive
URL:https://burk.ploud.net/What%20is%20Happening/lib-calendar/health-and-w
 ellness-fair
END:VEVENT
BEGIN:VTIMEZONE
TZID:US/Central
X-LIC-LOCATION:US/Central
BEGIN:DAYLIGHT
DTSTART:20160313T030000
TZNAME:CDT
TZOFFSETFROM:-0600
TZOFFSETTO:-0500
END:DAYLIGHT
END:VTIMEZONE
END:VCALENDAR
