BEGIN:VCALENDAR
VERSION:2.0
PRODID:-//Plone.org//NONSGML plone.app.event//EN
X-WR-TIMEZONE:US/Central
BEGIN:VEVENT
SUMMARY:Family Night
DTSTART;TZID=US/Central:20160517T180000
DTEND;TZID=US/Central:20160517T190000
DTSTAMP:20260422T101747Z
UID:ea6ce8557f3e43a7a5a7ab8eef704f1d@saas_stack_varnish:6080
CONTACT:940-569-2991
CREATED:20160420T213054Z
DESCRIPTION:Puppet Show with Patricia Miles: "I wish I could fly"
LAST-MODIFIED:20250205T213716Z
LOCATION:Burkburnett Library
URL:https://burk.ploud.net/What%20is%20Happening/lib-calendar/family-night
END:VEVENT
BEGIN:VTIMEZONE
TZID:US/Central
X-LIC-LOCATION:US/Central
BEGIN:DAYLIGHT
DTSTART:20160313T030000
TZNAME:CDT
TZOFFSETFROM:-0600
TZOFFSETTO:-0500
END:DAYLIGHT
END:VTIMEZONE
END:VCALENDAR
